BEGIN:VCALENDAR
VERSION:2.0
PRODID:icalendar-ruby
CALSCALE:GREGORIAN
METHOD:PUBLISH
BEGIN:VEVENT
DTSTAMP:20260422T203313Z
UID:5-440272@churchlandbaptistchurch.org
DTSTART:20261101T150000Z
DTEND:20261101T160000Z
CLASS:PUBLIC
CREATED:20260422T144139
DESCRIPTION:Sunday Worship
LAST-MODIFIED:20260422T144139
LOCATION:
SUMMARY:Sunday Worship
URL;VALUE=URI:https://churchlandbaptistchurch.org/events/sunday-worship/202
 6-11-01
END:VEVENT
END:VCALENDAR
