BEGIN:VCALENDAR
VERSION:2.0
PRODID:icalendar-ruby
CALSCALE:GREGORIAN
METHOD:PUBLISH
BEGIN:VEVENT
DTSTAMP:20260422T190339Z
UID:5-440271@churchlandbaptistchurch.org
DTSTART:20261025T140000Z
DTEND:20261025T150000Z
CLASS:PUBLIC
CREATED:20260422T144139
DESCRIPTION:Sunday Worship
LAST-MODIFIED:20260422T144139
LOCATION:
SUMMARY:Sunday Worship
URL;VALUE=URI:https://churchlandbaptistchurch.org/events/sunday-worship/202
 6-10-25
END:VEVENT
END:VCALENDAR
