BEGIN:VCALENDAR
VERSION:2.0
PRODID:icalendar-ruby
CALSCALE:GREGORIAN
METHOD:PUBLISH
BEGIN:VEVENT
DTSTAMP:20260422T155401Z
UID:5-439925@churchlandbaptistchurch.org
DTSTART:20261011T140000Z
DTEND:20261011T150000Z
CLASS:PUBLIC
CREATED:20260422T114712
DESCRIPTION:Sunday Worship
LAST-MODIFIED:20260422T114712
LOCATION:
SUMMARY:Sunday Worship
URL;VALUE=URI:https://churchlandbaptistchurch.org/events/sunday-worship/202
 6-10-11
END:VEVENT
END:VCALENDAR
