BEGIN:VCALENDAR
VERSION:2.0
PRODID:icalendar-ruby
CALSCALE:GREGORIAN
METHOD:PUBLISH
BEGIN:VEVENT
DTSTAMP:20260422T134902Z
UID:5-439580@churchlandbaptistchurch.org
DTSTART:20261004T140000Z
DTEND:20261004T150000Z
CLASS:PUBLIC
CREATED:20260422T085154
DESCRIPTION:Sunday Worship
LAST-MODIFIED:20260422T085154
LOCATION:
SUMMARY:Sunday Worship
URL;VALUE=URI:https://churchlandbaptistchurch.org/events/sunday-worship/202
 6-10-04
END:VEVENT
END:VCALENDAR
