BEGIN:VCALENDAR
VERSION:2.0
PRODID:icalendar-ruby
CALSCALE:GREGORIAN
METHOD:PUBLISH
BEGIN:VEVENT
DTSTAMP:20260422T122450Z
UID:5-439235@churchlandbaptistchurch.org
DTSTART:20260927T140000Z
DTEND:20260927T150000Z
CLASS:PUBLIC
CREATED:20260421T214248
DESCRIPTION:Sunday Worship
LAST-MODIFIED:20260421T214248
LOCATION:
SUMMARY:Sunday Worship
URL;VALUE=URI:https://churchlandbaptistchurch.org/events/sunday-worship/202
 6-09-27
END:VEVENT
END:VCALENDAR
